BEGIN:VCALENDAR
VERSION:2.0
PRODID:-//ChamberMaster//Event Calendar 2.0//EN
METHOD:PUBLISH
X-PUBLISHED-TTL:P3D
REFRESH-INTERVAL:P3D
CALSCALE:GREGORIAN
BEGIN:VEVENT
DTSTART:20140412T200000Z
DTEND:20140413T010000Z
X-MICROSOFT-CDO-ALLDAYEVENT:FALSE
SUMMARY:First Aid and CPR Class in Manteca
DESCRIPTION:The Heartsaver First-aid/CPR/AED class covers the following topics: bleeding control\, seizures\, epipen use\, allergic reactions\, snake bites\, broken bones\, poisoning\, CPR for adults\, children\, and infants\, chokesaving\, how to use an AED (automated external defibrillators)\, and other life threateningemergencies. \n\nTo register and for more information\, please go to our website: http://www.cprseminars.com/course-catalog/heartsaver-cpraedfirst-aid/
X-ALT-DESC;FMTTYPE=text/html:The Heartsaver First-aid/CPR/AED class covers the following topics: bleeding control\, seizures\, epipen use\, allergic reactions\, snake bites\, broken bones\, poisoning\, CPR for adults\, children\, and infants\, chokesaving\, how to use an AED (automated external defibrillators)\, and other life threateningemergencies. \n\nTo register and for more information\, please go to our website: http://www.cprseminars.com/course-catalog/heartsaver-cpraedfirst-aid/
LOCATION:Manteca CPR Classes 620 East Yosemite Avenue Manteca\, CA 95336
UID:e.2695.414
SEQUENCE:3
DTSTAMP:20260423T014822Z
URL:https://business.modchamber.org/events/details/first-aid-and-cpr-class-in-manteca-04-12-2014-414
END:VEVENT

END:VCALENDAR
