BEGIN:VCALENDAR
VERSION:2.0
PRODID:-//ChamberMaster//Event Calendar 2.0//EN
METHOD:PUBLISH
X-PUBLISHED-TTL:P3D
REFRESH-INTERVAL:P3D
CALSCALE:GREGORIAN
BEGIN:VEVENT
DTSTART:20160129T033000Z
DTEND:20160128T080000Z
X-MICROSOFT-CDO-ALLDAYEVENT:FALSE
SUMMARY:FIREFALL
DESCRIPTION:The genealogy and musical roots of Firefall run deep in the fertile soil of American Folk/Rock music. Defying industry labels\, they melded country\, folk\, easy listening and rock ‘n’ roll\, creating a sound uniquely their own\, helping to define a generation and forever changing the landscape of contemporary music. One of the few surviving bands of their genre\, Firefall has remained true to the founding vision throughout the band’s 30-year history. Firefall saturated the air waves with a string of Top 20 hits\, including “You Are The Woman\,” “Cinderella\,” Just Remember I Love You\,” “Strange Way\,” “Mexico” and “Good Bye I Love You.”\nContact :	Gallo Center\nPhone :	209-338-2100\nEmail :	\nWeb Site :	galloarts.org
X-ALT-DESC;FMTTYPE=text/html:The genealogy and musical roots of Firefall run deep in the fertile soil of American Folk/Rock music. Defying industry labels\, they melded country\, folk\, easy listening and rock ‘n’ roll\, creating a sound uniquely their own\, helping to define a generation and forever changing the landscape of contemporary music. One of the few surviving bands of their genre\, Firefall has remained true to the founding vision throughout the band’s 30-year history. Firefall saturated the air waves with a string of Top 20 hits\, including “You Are The Woman\,” “Cinderella\,” Just Remember I Love You\,” “Strange Way\,” “Mexico” and “Good Bye I Love You.”\nContact :	Gallo Center\nPhone :	209-338-2100\nEmail :	\nWeb Site :	galloarts.org
LOCATION:Gallo Center 1000 I ST Modesto\, CA 95354
UID:e.2695.1348
SEQUENCE:3
DTSTAMP:20260419T174158Z
URL:https://business.modchamber.org/events/details/firefall-01-28-2016-1348
END:VEVENT

END:VCALENDAR
