BEGIN:VCALENDAR
VERSION:2.0
PRODID:-//ChamberMaster//Event Calendar 2.0//EN
METHOD:PUBLISH
X-PUBLISHED-TTL:P3D
REFRESH-INTERVAL:P3D
CALSCALE:GREGORIAN
BEGIN:VEVENT
DTSTART:20160101T040000Z
DTEND:20151231T080000Z
X-MICROSOFT-CDO-ALLDAYEVENT:FALSE
SUMMARY:FIRE & ICE NEW YEAR’S EVE PARTY
DESCRIPTION:Clarion Hotel Modesto is putting on their 4th annual FIRE & ICE New Years eve party. Everything from live bands to a DJ Spinning Top 40s. Fire Package includes Prime Rib Dinner for two\, Access to all three party areas and Champagne toast at midnight Overnight Accommodations & Breakfast in the Morning.\nContact :	Clarion Hotel\nPhone :	521-1612\nEmail :	\nWeb Site :
X-ALT-DESC;FMTTYPE=text/html:Clarion Hotel Modesto is putting on their 4th annual FIRE & ICE New Years eve party. Everything from live bands to a DJ Spinning Top 40s. Fire Package includes Prime Rib Dinner for two\, Access to all three party areas and Champagne toast at midnight Overnight Accommodations & Breakfast in the Morning.\nContact :	Clarion Hotel\nPhone :	521-1612\nEmail :	\nWeb Site :	
LOCATION:Clarion Hotel 1612 Sisk Road Modesto\, CA 95350
UID:e.2695.1333
SEQUENCE:3
DTSTAMP:20260419T191101Z
URL:https://business.modchamber.org/events/details/fire-ice-new-year-s-eve-party-12-31-2015-1333
END:VEVENT

END:VCALENDAR
