BEGIN:VCALENDAR
VERSION:2.0
PRODID:-//ChamberMaster//Event Calendar 2.0//EN
METHOD:PUBLISH
X-PUBLISHED-TTL:P3D
REFRESH-INTERVAL:P3D
CALSCALE:GREGORIAN
BEGIN:VEVENT
DTSTART:20151010T013000Z
DTEND:20151009T070000Z
X-MICROSOFT-CDO-ALLDAYEVENT:FALSE
SUMMARY:Fire\, Ice & Magic Gala The Parent Resource Center
DESCRIPTION:Come celebrate and learn about services the Parent Resource Center of Modesto offers while enjoying an extravagant evening under the stars. Event benefits the Center’s effort to prevent child abuse and neglect through parenting education and support services. \n\nA fabulous evening of food\, wine and fun plus music\, magic and a silent auction!\n\nFor more information and/or to purchase tickets contact Susan or Maria H. at the Parent Resource Center (209) 549-8193 or Beasleysm@prcfamilies.org. Hernandezmd@prcfamilies.org \n\n$75 per person\nContact :	Parent Resource Center\nPhone :	(209) 549-8193\nEmail :	\nWeb Site :	www.prcfamilies.org
X-ALT-DESC;FMTTYPE=text/html:Come celebrate and learn about services the Parent Resource Center of Modesto offers while enjoying an extravagant evening under the stars. Event benefits the Center’s effort to prevent child abuse and neglect through parenting education and support services. \n\nA fabulous evening of food\, wine and fun plus music\, magic and a silent auction!\n\nFor more information and/or to purchase tickets contact Susan or Maria H. at the Parent Resource Center (209) 549-8193 or Beasleysm@prcfamilies.org. Hernandezmd@prcfamilies.org \n\n$75 per person\nContact :	Parent Resource Center\nPhone :	(209) 549-8193\nEmail :	\nWeb Site :	www.prcfamilies.org
LOCATION:Private Residence\, “Les Deux Masions”
UID:e.2695.1216
SEQUENCE:3
DTSTAMP:20260419T214640Z
URL:https://business.modchamber.org/events/details/fire-ice-magic-gala-the-parent-resource-center-10-09-2015-1216
END:VEVENT

END:VCALENDAR
