BEGIN:VCALENDAR
VERSION:2.0
PRODID:-//ChamberMaster//Event Calendar 2.0//EN
METHOD:PUBLISH
X-PUBLISHED-TTL:P3D
REFRESH-INTERVAL:P3D
CALSCALE:GREGORIAN
BEGIN:VEVENT
DTSTART:20160221T220000Z
DTEND:20160221T080000Z
X-MICROSOFT-CDO-ALLDAYEVENT:FALSE
SUMMARY:Fences
DESCRIPTION:The Gallo Center & Sankofa Theatre Company present\nFENCES\n\nThe Gallo Center and Sankofa Theatre Company\, which have joined forces for The Piano Lesson and Looking Over the President's Shoulder\, will present August Wilson’s story of a responsible yet otherwise flawed black garbage collector in pre-Civil Rights America who rises to the level of an epic hero. The play mirrors the classic struggles of status quo\, tradition\, and age\, versus change\, innovation\, and youth. During its 1987 Broadway run\, Fences garnered four Tony Awards\, the New York Drama Critics Circle Award\, and the Pulitzer Prize for Drama. It is one of the most significant African-American plays of the 20th century.\nContact :	Gallo Center\nPhone :	209-338-2100\nEmail :	\nWeb Site :	galloarts.org
X-ALT-DESC;FMTTYPE=text/html:The Gallo Center & Sankofa Theatre Company present\nFENCES\n\nThe Gallo Center and Sankofa Theatre Company\, which have joined forces for The Piano Lesson and Looking Over the President's Shoulder\, will present August Wilson’s story of a responsible yet otherwise flawed black garbage collector in pre-Civil Rights America who rises to the level of an epic hero. The play mirrors the classic struggles of status quo\, tradition\, and age\, versus change\, innovation\, and youth. During its 1987 Broadway run\, Fences garnered four Tony Awards\, the New York Drama Critics Circle Award\, and the Pulitzer Prize for Drama. It is one of the most significant African-American plays of the 20th century.\nContact :	Gallo Center\nPhone :	209-338-2100\nEmail :	\nWeb Site :	galloarts.org
LOCATION:Gallo Center 1000 I Street Modesto\, CA 95354
UID:e.2695.1536
SEQUENCE:3
DTSTAMP:20260419T164315Z
URL:https://business.modchamber.org/events/details/fences-02-21-2016-1536
END:VEVENT

END:VCALENDAR
