BEGIN:VCALENDAR
VERSION:2.0
PRODID:-//ChamberMaster//Event Calendar 2.0//EN
METHOD:PUBLISH
X-PUBLISHED-TTL:P3D
REFRESH-INTERVAL:P3D
CALSCALE:GREGORIAN
BEGIN:VEVENT
DTSTART:20160319T170000Z
DTEND:20160320T010000Z
X-MICROSOFT-CDO-ALLDAYEVENT:FALSE
SUMMARY:Fasm Creative Battle 4 - Pashe vs. Clown
DESCRIPTION:A live public graffiti battle. Free entry. Live DJs. Free craft tacos by Commonwealth. Judging at 5pm. Fasm Creative Battle 4 is March 19th!\n\n\nContact : 	\nPhone : 	\nEmail : 	\nWeb Site :
X-ALT-DESC;FMTTYPE=text/html:	A live public graffiti battle. Free entry. Live DJs. Free craft tacos by Commonwealth. Judging at 5pm. Fasm Creative Battle 4 is March 19th!\n\n\nContact : 	\nPhone : 	\nEmail : 	\nWeb Site : 	\n\n
LOCATION:The Redeemer 820 H Street Modesto\, CA 95354
UID:e.2695.1570
SEQUENCE:3
DTSTAMP:20260419T153643Z
URL:https://business.modchamber.org/events/details/fasm-creative-battle-4-pashe-vs-clown-03-19-2016-1570
END:VEVENT

END:VCALENDAR
