BEGIN:VCALENDAR
VERSION:2.0
PRODID:-//ChamberMaster//Event Calendar 2.0//EN
METHOD:PUBLISH
X-PUBLISHED-TTL:P3D
REFRESH-INTERVAL:P3D
CALSCALE:GREGORIAN
BEGIN:VEVENT
DTSTART:20150426T210000Z
DTEND:20150426T230000Z
X-MICROSOFT-CDO-ALLDAYEVENT:FALSE
SUMMARY:Fancy Nancy The Musical
DESCRIPTION:Vital Theatre Company's\nFANCY NANCY THE MUSICAL\n\nBased on the book series by Jane O’Conner and illustrated by Robin Preiss Glasser\, Fancy Nancy the Musical is coming to the Gallo Center in a production by the award-winning Vital Theatre Company. The story follows Nancy and her friends Bree\, Rhonda\, Wanda\, and Lionel\, who are going to be performing in their very first show\, Deep Sea Dances. Nancy is positive\, that’s fancy for 100 percent sure\, that she and Bree will be picked to be mermaids. When another girl wins the coveted role of the mermaid\, Nancy is stuck playing a dreary\, dull tree. Can Nancy bring fancy flair to her role\, even though it isn’t the one she wanted? This show is geared towards children 4-10 years old.\nContact : 	Gallo Center\nPhone : 	209-338-2100\nEmail : 	\nWeb Site : 	galloarts.org
X-ALT-DESC;FMTTYPE=text/html:Vital Theatre Company's\nFANCY NANCY THE MUSICAL\n\nBased on the book series by Jane O’Conner and illustrated by Robin Preiss Glasser\, Fancy Nancy the Musical is coming to the Gallo Center in a production by the award-winning Vital Theatre Company. The story follows Nancy and her friends Bree\, Rhonda\, Wanda\, and Lionel\, who are going to be performing in their very first show\, Deep Sea Dances. Nancy is positive\, that’s fancy for 100 percent sure\, that she and Bree will be picked to be mermaids. When another girl wins the coveted role of the mermaid\, Nancy is stuck playing a dreary\, dull tree. Can Nancy bring fancy flair to her role\, even though it isn’t the one she wanted? This show is geared towards children 4-10 years old.\nContact : 	Gallo Center\nPhone : 	209-338-2100\nEmail : 	\nWeb Site : 	galloarts.org
LOCATION:Gallo Center 1000 I St Modesto\, CA 95354
UID:e.2695.896
SEQUENCE:3
DTSTAMP:20260420T073646Z
URL:https://business.modchamber.org/events/details/fancy-nancy-the-musical-04-26-2015-896
END:VEVENT

END:VCALENDAR
