BEGIN:VCALENDAR
VERSION:2.0
PRODID:-//ChamberMaster//Event Calendar 2.0//EN
METHOD:PUBLISH
X-PUBLISHED-TTL:P3D
REFRESH-INTERVAL:P3D
CALSCALE:GREGORIAN
BEGIN:VEVENT
DTSTART:20160101T000000Z
DTEND:20160101T030000Z
X-MICROSOFT-CDO-ALLDAYEVENT:FALSE
SUMMARY:FAMILY NEW YEAR’S EVE PARTY
DESCRIPTION:Spend quality time with the entire family at Yosemite Lanes on New Years Eve. Toast to 2016 with sparkling apple cider and bowl with the whole family. There will be raffle and live music throughout the alley.\nContact :	Yosemite Lanes\nPhone :	524-9161\nEmail :	\nWeb Site :
X-ALT-DESC;FMTTYPE=text/html:Spend quality time with the entire family at Yosemite Lanes on New Years Eve. Toast to 2016 with sparkling apple cider and bowl with the whole family. There will be raffle and live music throughout the alley.\nContact :	Yosemite Lanes\nPhone :	524-9161\nEmail :	\nWeb Site :	\n
LOCATION:Yosemite Lanes 2301 Yosemite Blvd Modesto\, CA 95351
UID:e.2695.1330
SEQUENCE:3
DTSTAMP:20260419T191232Z
URL:https://business.modchamber.org/events/details/family-new-year-s-eve-party-12-31-2015-1330
END:VEVENT

END:VCALENDAR
