BEGIN:VCALENDAR
VERSION:2.0
PRODID:-//ChamberMaster//Event Calendar 2.0//EN
METHOD:PUBLISH
X-PUBLISHED-TTL:P3D
REFRESH-INTERVAL:P3D
CALSCALE:GREGORIAN
BEGIN:VEVENT
DTSTART:20160521T170000Z
DTEND:20160521T220000Z
X-MICROSOFT-CDO-ALLDAYEVENT:FALSE
SUMMARY:Family Cycling Festival
DESCRIPTION:Come join the fun at the 2016 Family Cycling Festival. Plan to bring the family for a full-day of cycling fun in front of the Stanislaus County Courthouse on I Street between 10th & 12th Streets. The Festival hours are from 10:00 a.m. to 3:00 p.m. The Festival includes all-day free cycling entertainment for the whole family.\nContact :	Megan Distaso\nPhone :	209-571-5193\nEmail :	\nWeb Site :	www.modestogov.com/bikes
X-ALT-DESC;FMTTYPE=text/html:Come join the fun at the 2016 Family Cycling Festival. Plan to bring the family for a full-day of cycling fun in front of the Stanislaus County Courthouse on I Street between 10th & 12th Streets. The Festival hours are from 10:00 a.m. to 3:00 p.m. The Festival includes all-day free cycling entertainment for the whole family.\nContact :	Megan Distaso\nPhone :	209-571-5193\nEmail :	\nWeb Site :	www.modestogov.com/bikes
LOCATION:Downtown Modesto I St. between 11th & 12th\, in front of courthouse Modesto\, CA 95354
UID:e.2695.1503
SEQUENCE:3
DTSTAMP:20260419T125326Z
URL:https://business.modchamber.org/events/details/family-cycling-festival-05-21-2016-1503
END:VEVENT

END:VCALENDAR
