BEGIN:VCALENDAR
VERSION:2.0
PRODID:-//ChamberMaster//Event Calendar 2.0//EN
METHOD:PUBLISH
X-PUBLISHED-TTL:P3D
REFRESH-INTERVAL:P3D
CALSCALE:GREGORIAN
BEGIN:VEVENT
DTSTART:20160417T180000Z
DTEND:20160417T220000Z
X-MICROSOFT-CDO-ALLDAYEVENT:FALSE
SUMMARY:Family and Paws Walk For Clean Water
DESCRIPTION:The vent includes:\nA group dog walk.\nthe opportunity to adopt a “puppy or dog”\nTons of entertainment\, food\, music and vendors for the family & Dogs!\nContest for best-dressed pet or Master.\nAll dogs must be friendly and walk with a leach.\n\nEveryone must register by April 16th 2016.\nBuy your tickets at: www.eventbrite.com\nErin Milan Salon & Spa 209-857-8097\nTotal Image Salon & Spa 209-525-8625\nContact : 	Erin Milan Salon\nPhone : 	209-857-8097\nEmail : 	\nWeb Site :
X-ALT-DESC;FMTTYPE=text/html:The vent includes:\nA group dog walk.\nthe opportunity to adopt a “puppy or dog”\nTons of entertainment\, food\, music and vendors for the family & Dogs!\nContest for best-dressed pet or Master.\nAll dogs must be friendly and walk with a leach.\n\nEveryone must register by April 16th 2016.\nBuy your tickets at: www.eventbrite.com\nErin Milan Salon & Spa 209-857-8097\nTotal Image Salon & Spa 209-525-8625\nContact : 	Erin Milan Salon\nPhone : 	209-857-8097\nEmail : 	\nWeb Site :
LOCATION:10th Street Plaza 1010 10th Street Modesto\, CA 95354
UID:e.2695.1615
SEQUENCE:3
DTSTAMP:20260419T141252Z
URL:https://business.modchamber.org/events/details/family-and-paws-walk-for-clean-water-04-17-2016-1615
END:VEVENT

END:VCALENDAR
