BEGIN:VCALENDAR
VERSION:2.0
PRODID:-//ChamberMaster//Event Calendar 2.0//EN
METHOD:PUBLISH
X-PUBLISHED-TTL:P3D
REFRESH-INTERVAL:P3D
CALSCALE:GREGORIAN
BEGIN:VEVENT
DTSTART:20160227T220000Z
DTEND:20160228T030000Z
X-MICROSOFT-CDO-ALLDAYEVENT:FALSE
SUMMARY:FAIRY TALES & FANTASY
DESCRIPTION:Come meet ballet’s best-loved princesses and princes in an enchanted evening of classical favorites. Brigham Young University’s Theatre Ballet brings childhood dreams to life in their unique show\, Fairy Tales and Fantasy\, in the Foster Family Theater on Saturday\, February 27th at 2pm & 7pm. Theatre Ballet also cordially invites all to attend their pre-show Prince and Princess Party where the young and young-at-heart can dress as princes and princesses\, meet the ballet company\, and take pictures right before this family-friendly performance.\n\nFairy Tales and Fantasy is a night of highlights from the stage’s most popular and successful ballets. The dancers will delight audiences with favorite scenes from Cinderella\, Sleeping Beauty\, Snow White\, Alice in Wonderland and Paquita. BYU’s critically acclaimed ballet company brings these stories to life\, stepping onto the stage as if right out of the storybook. Fairy Tales and Fantasy is filled with both classical and original choreography from one of the largest\, most successful dance programs in the country. As the curtains finally close on a perfect storybook ending\, audiences will wish the performance could go on happily ever after.\nContact :	Gallo Center\nPhone :	209-338-2100\nEmail :	\nWeb Site :	galloarts.org
X-ALT-DESC;FMTTYPE=text/html:Come meet ballet’s best-loved princesses and princes in an enchanted evening of classical favorites. Brigham Young University’s Theatre Ballet brings childhood dreams to life in their unique show\, Fairy Tales and Fantasy\, in the Foster Family Theater on Saturday\, February 27th at 2pm & 7pm. Theatre Ballet also cordially invites all to attend their pre-show Prince and Princess Party where the young and young-at-heart can dress as princes and princesses\, meet the ballet company\, and take pictures right before this family-friendly performance.\n\nFairy Tales and Fantasy is a night of highlights from the stage’s most popular and successful ballets. The dancers will delight audiences with favorite scenes from Cinderella\, Sleeping Beauty\, Snow White\, Alice in Wonderland and Paquita. BYU’s critically acclaimed ballet company brings these stories to life\, stepping onto the stage as if right out of the storybook. Fairy Tales and Fantasy is filled with both classical and original choreography from one of the largest\, most successful dance programs in the country. As the curtains finally close on a perfect storybook ending\, audiences will wish the performance could go on happily ever after.\nContact :	Gallo Center\nPhone :	209-338-2100\nEmail :	\nWeb Site :	galloarts.org
LOCATION:Gallo Center 1000 I Street Modesto\, CA 95354
UID:e.2695.1430
SEQUENCE:3
DTSTAMP:20260419T164626Z
URL:https://business.modchamber.org/events/details/fairy-tales-fantasy-02-27-2016-1430
END:VEVENT

END:VCALENDAR
