BEGIN:VCALENDAR
VERSION:2.0
PRODID:-//ChamberMaster//Event Calendar 2.0//EN
METHOD:PUBLISH
X-PUBLISHED-TTL:P3D
REFRESH-INTERVAL:P3D
CALSCALE:GREGORIAN
BEGIN:VEVENT
DTSTART:20160527T010000Z
DTEND:20160526T070000Z
X-MICROSOFT-CDO-ALLDAYEVENT:FALSE
SUMMARY:Fairview Park Restoration Fundraiser Dinner
DESCRIPTION:All proceeds go towards the restoration of Fairview Park South Modesto.\n\nDinner & silent auction.\n\n$25.00 per plate\n\nMenu: Chicken\, beef fajita\, chili verde\, rice beans green salad & homemade tortillas.\n\nCall 209-534-1211 for tickets.\n\nContact : 	\nPhone : 	209-534-1211\nEmail : 	\nWeb Site :
X-ALT-DESC;FMTTYPE=text/html:	All proceeds go towards the restoration of Fairview Park South Modesto.\n\nDinner & silent auction.\n\n$25.00 per plate\n\nMenu: Chicken\, beef fajita\, chili verde\, rice beans green salad & homemade tortillas.\n\nCall 209-534-1211 for tickets.\n\nContact : 	\nPhone : 	209-534-1211\nEmail : 	\nWeb Site :
LOCATION:Stanislaus County Ag Center - Harvest Hall 3800 Cornucopia Way Modesto\, CA 95358
UID:e.2695.1706
SEQUENCE:3
DTSTAMP:20260419T124923Z
URL:https://business.modchamber.org/events/details/fairview-park-restoration-fundraiser-dinner-05-26-2016-1706
END:VEVENT

END:VCALENDAR
