BEGIN:VCALENDAR
VERSION:2.0
PRODID:-//ChamberMaster//Event Calendar 2.0//EN
METHOD:PUBLISH
X-PUBLISHED-TTL:P3D
REFRESH-INTERVAL:P3D
CALSCALE:GREGORIAN
BEGIN:VEVENT
DTSTART:20151018T210000Z
DTEND:20151018T070000Z
X-MICROSOFT-CDO-ALLDAYEVENT:FALSE
SUMMARY:ETHAN BORTNICK
DESCRIPTION:The staggeringly talented pianist Ethan Bortnick was nine years old the last time he appeared at the Gallo Center. Now 13\, he’s grown even more as an artist! Ethan brings to life some of music's most well-known classics and biggest hits\, with a repertoire that spans from Bach and Mozart to disco\, jazz\, pop and rock. He has the uncanny ability to hear a song once\, and then to play it back note for note. Ethan also has helped raise more than $30 million for non-profit groups around the world\, while appearing on stage with Elton John\, Josh Groban\, Andrea Bocelli\, Beyonce\, and Reba McEntire among many others.\nContact :	Gallo Center\nPhone :	209-338-2100\nEmail :	\nWeb Site :	galloarts.org
X-ALT-DESC;FMTTYPE=text/html:The staggeringly talented pianist Ethan Bortnick was nine years old the last time he appeared at the Gallo Center. Now 13\, he’s grown even more as an artist! Ethan brings to life some of music's most well-known classics and biggest hits\, with a repertoire that spans from Bach and Mozart to disco\, jazz\, pop and rock. He has the uncanny ability to hear a song once\, and then to play it back note for note. Ethan also has helped raise more than $30 million for non-profit groups around the world\, while appearing on stage with Elton John\, Josh Groban\, Andrea Bocelli\, Beyonce\, and Reba McEntire among many others.\nContact :	Gallo Center\nPhone :	209-338-2100\nEmail :	\nWeb Site :	galloarts.org
LOCATION:Gallo Center 1000 I St Modesto\, CA 95354
UID:e.2695.1236
SEQUENCE:3
DTSTAMP:20260419T230055Z
URL:https://business.modchamber.org/events/details/ethan-bortnick-10-18-2015-1236
END:VEVENT

END:VCALENDAR
