BEGIN:VCALENDAR
VERSION:2.0
PRODID:-//ChamberMaster//Event Calendar 2.0//EN
METHOD:PUBLISH
X-PUBLISHED-TTL:P3D
REFRESH-INTERVAL:P3D
CALSCALE:GREGORIAN
BEGIN:VEVENT
DTSTART:20160429T000000Z
DTEND:20160428T070000Z
X-MICROSOFT-CDO-ALLDAYEVENT:FALSE
SUMMARY:Epsilon Nu/DKG Presents a ''Fun'' Raiser
DESCRIPTION:Classic Movie: Breakfast at Tiffany's\n\nTime: 5:00 Drinks\, food\, drawings\n\n7:00 Film Showing\n\nDonation: $25.00\n\nBenefits: Education Programs of SCOE (Stanislaus County Office of Education/Education Foundation of Stanislaus County)\, State Theatre Educational Programs\, MJC Scholarships\,\n\nLibrary Books\, Great Valley Museum/Discovery Room (GVM)\n\nTickets available online - www.thestate.org \, at the door\, or by calling Gloria at (209) 545-0883\n\n\nContact : 	State Theatre\nPhone : 	BOX OFFICE (209) 527-4697\nEmail : 	\nWeb Site : 	thestate.org
X-ALT-DESC;FMTTYPE=text/html:	Classic Movie: Breakfast at Tiffany's\n\nTime: 5:00 Drinks\, food\, drawings\n\n7:00 Film Showing\n\nDonation: $25.00\n\nBenefits: Education Programs of SCOE (Stanislaus County Office of Education/Education Foundation of Stanislaus County)\, State Theatre Educational Programs\, MJC Scholarships\,\n\nLibrary Books\, Great Valley Museum/Discovery Room (GVM)\n\nTickets available online - www.thestate.org \, at the door\, or by calling Gloria at (209) 545-0883\n\n\nContact : 	State Theatre\nPhone : 	BOX OFFICE (209) 527-4697\nEmail : 	\nWeb Site : 	thestate.org
LOCATION:State Theatre 1307 J Street Modesto\, CA 95354
UID:e.2695.1617
SEQUENCE:3
DTSTAMP:20260419T141119Z
URL:https://business.modchamber.org/events/details/epsilon-nu-dkg-presents-a-fun-raiser-04-28-2016-1617
END:VEVENT

END:VCALENDAR
