BEGIN:VCALENDAR
VERSION:2.0
PRODID:-//ChamberMaster//Event Calendar 2.0//EN
METHOD:PUBLISH
X-PUBLISHED-TTL:P3D
REFRESH-INTERVAL:P3D
CALSCALE:GREGORIAN
BEGIN:VEVENT
DTSTART:20150320T020000Z
DTEND:20150320T040000Z
X-MICROSOFT-CDO-ALLDAYEVENT:FALSE
SUMMARY:Ending the Culture of Violence on School Campuses
DESCRIPTION:Panel discussion\n\nPanel members:\nStanislaus Co. Sheriff Adam Christianson\nOffice of Education Superintendent Tom Changnon\nUniversity of the Pacific Vice President Patrick Day\nOakdale Police Chief Lester Jenkins\nFamily Justice Center Executive Director Tom Ciccarelli\nBehavioral Health and Recovery Services Director\, Dr. Madelyn Schlaepfer\n\nDiscussion Topics:\n\nCrime\nHigh School Dropouts\nSexual Assault\nSubstance Abuse\nBreakdown of the Family Unit\nMental Health\nContact :	\nPhone :	\nEmail :	endcultureofviolence@gmail.com\nWeb Site :
X-ALT-DESC;FMTTYPE=text/html:Panel discussion\n\nPanel members:\nStanislaus Co. Sheriff Adam Christianson\nOffice of Education Superintendent Tom Changnon\nUniversity of the Pacific Vice President Patrick Day\nOakdale Police Chief Lester Jenkins\nFamily Justice Center Executive Director Tom Ciccarelli\nBehavioral Health and Recovery Services Director\, Dr. Madelyn Schlaepfer\n\nDiscussion Topics:\n\nCrime\nHigh School Dropouts\nSexual Assault\nSubstance Abuse\nBreakdown of the Family Unit\nMental Health\nContact :	\nPhone :	\nEmail :	endcultureofviolence@gmail.com\nWeb Site :
LOCATION:Martin G. Peterson Event Center 720 12th Street Modesto\, CA 95354
UID:e.2695.804
SEQUENCE:3
DTSTAMP:20260420T074222Z
URL:https://business.modchamber.org/events/details/ending-the-culture-of-violence-on-school-campuses-03-19-2015-804
END:VEVENT

END:VCALENDAR
