BEGIN:VCALENDAR
VERSION:2.0
PRODID:-//ChamberMaster//Event Calendar 2.0//EN
METHOD:PUBLISH
X-PUBLISHED-TTL:P3D
REFRESH-INTERVAL:P3D
CALSCALE:GREGORIAN
BEGIN:VEVENT
DTSTART:20150614T020000Z
DTEND:20150613T070000Z
X-MICROSOFT-CDO-ALLDAYEVENT:FALSE
SUMMARY:Elvis Tribute
DESCRIPTION:Local bands performing the ultimate Elvis Tribute! Rock out to the king of Rock n Roll’s most beloved hits!\n\nRon and Doug Presents. Sponsored by ModestoView\, Chris Murphy Family and Gary Nelson Law \n\nContact :	State Theatre\nPhone :	BOX OFFICE (209) 527-4697\nEmail :	\nWeb Site :	thestate.org
X-ALT-DESC;FMTTYPE=text/html:	Local bands performing the ultimate Elvis Tribute! Rock out to the king of Rock n Roll’s most beloved hits!\n\nRon and Doug Presents. Sponsored by ModestoView\, Chris Murphy Family and Gary Nelson Law \n\nContact :	State Theatre\nPhone :	BOX OFFICE (209) 527-4697\nEmail :	\nWeb Site :	thestate.org
LOCATION:State Theatre 1307 J St Modesto\, CA 95354
UID:e.2695.996
SEQUENCE:3
DTSTAMP:20260420T031642Z
URL:https://business.modchamber.org/events/details/elvis-tribute-06-13-2015-996
END:VEVENT

END:VCALENDAR
