BEGIN:VCALENDAR
VERSION:2.0
PRODID:-//ChamberMaster//Event Calendar 2.0//EN
METHOD:PUBLISH
X-PUBLISHED-TTL:P3D
REFRESH-INTERVAL:P3D
CALSCALE:GREGORIAN
BEGIN:VEVENT
DTSTART:20160131T040000Z
DTEND:20160130T080000Z
X-MICROSOFT-CDO-ALLDAYEVENT:FALSE
SUMMARY:ELTON JOHN'S GREATEST HITS
DESCRIPTION:Gallo Center audiences have responded so positively to the Classic Albums Live shows that they have become something of an annual tradition. These top musicians have already performed note-for-note\, cut-for-cut recitals (not tributes with costumes and wigs) of The Eagles' “Hotel California\,” “Led Zeppelin IV” and The Beatles' “Abbey Road.” Now they are returning with Elton John's Great Hits. You'll hear absolutely perfect renditions of “Your Song\,” “Daniel\," “Honky Cat\,” “Goodbye Yellow Brick Road\,” “Candle in the Wind” and so much more!\nContact :	Gallo Center\nPhone :	209-338-2100\nEmail :	\nWeb Site :	galloarts.org
X-ALT-DESC;FMTTYPE=text/html:Gallo Center audiences have responded so positively to the Classic Albums Live shows that they have become something of an annual tradition. These top musicians have already performed note-for-note\, cut-for-cut recitals (not tributes with costumes and wigs) of The Eagles' “Hotel California\,” “Led Zeppelin IV” and The Beatles' “Abbey Road.” Now they are returning with Elton John's Great Hits. You'll hear absolutely perfect renditions of “Your Song\,” “Daniel\," “Honky Cat\,” “Goodbye Yellow Brick Road\,” “Candle in the Wind” and so much more!\nContact :	Gallo Center\nPhone :	209-338-2100\nEmail :	\nWeb Site :	galloarts.org
LOCATION:Gallo Center 1000 I St Modesto\, CA 95354
UID:e.2695.1352
SEQUENCE:3
DTSTAMP:20260419T174809Z
URL:https://business.modchamber.org/events/details/elton-john-s-greatest-hits-01-30-2016-1352
END:VEVENT

END:VCALENDAR
