BEGIN:VCALENDAR
VERSION:2.0
PRODID:-//ChamberMaster//Event Calendar 2.0//EN
METHOD:PUBLISH
X-PUBLISHED-TTL:P3D
REFRESH-INTERVAL:P3D
CALSCALE:GREGORIAN
BEGIN:VEVENT
DTSTART:20151118T023000Z
DTEND:20151118T080000Z
X-MICROSOFT-CDO-ALLDAYEVENT:FALSE
SUMMARY:elf The Broadway Musical
DESCRIPTION:ELF is the hilarious tale of Buddy\, a young orphan child who mistakenly crawls into Santa's bag of gifts and is transported back to the north pole. Unaware that he is actually human\, Buddy's enormous size and poor toy-making abilities cause him to face the truth. With Santa's permission\, Buddy embarks on a journey to New York City to find his birth father\, discover his true identity \, and help New York remember the true meaning of Christmas. This modern day Christmas classic\, based on the 2013 New Line Cinema hit movie\, is sure to make everyone embrace their inner Elf.\nContact :	Gallo Center\nPhone :	209-338-3102\nEmail :	\nWeb Site :	galloarts.org
X-ALT-DESC;FMTTYPE=text/html:ELF is the hilarious tale of Buddy\, a young orphan child who mistakenly crawls into Santa's bag of gifts and is transported back to the north pole. Unaware that he is actually human\, Buddy's enormous size and poor toy-making abilities cause him to face the truth. With Santa's permission\, Buddy embarks on a journey to New York City to find his birth father\, discover his true identity \, and help New York remember the true meaning of Christmas. This modern day Christmas classic\, based on the 2013 New Line Cinema hit movie\, is sure to make everyone embrace their inner Elf.\nContact :	Gallo Center\nPhone :	209-338-3102\nEmail :	\nWeb Site :	galloarts.org
LOCATION:Gallo Center 1000 I St Modesto\, CA 95354
UID:e.2695.1265
SEQUENCE:3
DTSTAMP:20260419T203453Z
URL:https://business.modchamber.org/events/details/elf-the-broadway-musical-11-17-2015-1265
END:VEVENT

END:VCALENDAR
