BEGIN:VCALENDAR
VERSION:2.0
PRODID:-//ChamberMaster//Event Calendar 2.0//EN
METHOD:PUBLISH
X-PUBLISHED-TTL:P3D
REFRESH-INTERVAL:P3D
CALSCALE:GREGORIAN
BEGIN:VEVENT
DTSTART:20150329T000000Z
DTEND:20150328T070000Z
X-MICROSOFT-CDO-ALLDAYEVENT:FALSE
SUMMARY:Egg Nite
DESCRIPTION:Glow in the dark egg hunt\, games\, dinner & prizes!\nContact :	Trinity United Presbyterian Church\nPhone :	209-529-3228\nEmail :	\nWeb Site :
X-ALT-DESC;FMTTYPE=text/html:Glow in the dark egg hunt\, games\, dinner & prizes!\nContact :	Trinity United Presbyterian Church\nPhone :	209-529-3228\nEmail :	\nWeb Site :
LOCATION:Trinity United Presbyterian Church 1600 Carver Rd Modesto\, CA 95350
UID:e.2695.827
SEQUENCE:3
DTSTAMP:20260420T073449Z
URL:https://business.modchamber.org/events/details/egg-nite-03-28-2015-827
END:VEVENT

END:VCALENDAR
