BEGIN:VCALENDAR
VERSION:2.0
PRODID:-//ChamberMaster//Event Calendar 2.0//EN
METHOD:PUBLISH
X-PUBLISHED-TTL:P3D
REFRESH-INTERVAL:P3D
CALSCALE:GREGORIAN
BEGIN:VEVENT
DTSTART:20150701T143000Z
DTEND:20150701T160000Z
X-MICROSOFT-CDO-ALLDAYEVENT:FALSE
SUMMARY:Economic Development Committee Meeting - CANCELED
DESCRIPTION:CANCELED - Next meeting Julyt 15th at 7:30
X-ALT-DESC;FMTTYPE=text/html:<DIV><SPAN style="DISPLAY: inline! important\; FLOAT: none\; WORD-SPACING: 0px\; FONT: 13px/23px Arial\, Helvetica\, Tahoma\, san-serif\; TEXT-TRANSFORM: none\; COLOR: rgb(0\,0\,0)\; TEXT-INDENT: 0px\; WHITE-SPACE: normal\; LETTER-SPACING: normal\; BACKGROUND-COLOR: rgb(255\,255\,255)\; orphans: auto\; widows: auto\; -webkit-text-stroke-width: 0px"><FONT color=#ff0000><STRONG>CANCELED - </STRONG></FONT></SPAN><SPAN style="DISPLAY: inline! important\; FLOAT: none\; WORD-SPACING: 0px\; FONT: 13px/23px Arial\, Helvetica\, Tahoma\, san-serif\; TEXT-TRANSFORM: none\; COLOR: rgb(0\,0\,0)\; TEXT-INDENT: 0px\; WHITE-SPACE: normal\; LETTER-SPACING: normal\; BACKGROUND-COLOR: rgb(255\,255\,255)\; orphans: auto\; widows: auto\; -webkit-text-stroke-width: 0px"><FONT color=#000000>Next meeting Julyt 15th at 7:30 </FONT></SPAN></DIV>
LOCATION:Modesto Chamber of Commerce 1114 J Street Modesto\, CA 95354
UID:e.2695.714
SEQUENCE:3
DTSTAMP:20260420T020006Z
URL:https://business.modchamber.org/events/details/economic-development-committee-meeting-canceled-07-01-2015-714
END:VEVENT

END:VCALENDAR
