BEGIN:VCALENDAR
VERSION:2.0
PRODID:-//ChamberMaster//Event Calendar 2.0//EN
METHOD:PUBLISH
X-PUBLISHED-TTL:P3D
REFRESH-INTERVAL:P3D
CALSCALE:GREGORIAN
BEGIN:VEVENT
DTSTART:20150404T170000Z
DTEND:20150404T200000Z
X-MICROSOFT-CDO-ALLDAYEVENT:FALSE
SUMMARY:Easter Kids Blitz
DESCRIPTION:Come join the Neighborhood Church and join in on the Egg Hunt for over 9\,000 eggs.\nContact :	Neighborhood Church\nPhone :	209-529-8900\nEmail :	\nWeb Site :	www.yourmnc.com
X-ALT-DESC;FMTTYPE=text/html:Come join the Neighborhood Church and join in on the Egg Hunt for over 9\,000 eggs.\nContact :	Neighborhood Church\nPhone :	209-529-8900\nEmail :	\nWeb Site :	www.yourmnc.com
LOCATION:Neighborhood Church 5901 Sisk Road Modesto\, CA 95350
UID:e.2695.839
SEQUENCE:3
DTSTAMP:20260420T061844Z
URL:https://business.modchamber.org/events/details/easter-kids-blitz-04-04-2015-839
END:VEVENT

END:VCALENDAR
