BEGIN:VCALENDAR
VERSION:2.0
PRODID:-//ChamberMaster//Event Calendar 2.0//EN
METHOD:PUBLISH
X-PUBLISHED-TTL:P3D
REFRESH-INTERVAL:P3D
CALSCALE:GREGORIAN
BEGIN:VEVENT
DTSTART:20150404T190000Z
DTEND:20150404T210000Z
X-MICROSOFT-CDO-ALLDAYEVENT:FALSE
SUMMARY:Easter Family Fun Day
DESCRIPTION:Easter egg hunt\, bounce house\, games & food.\nContact :	North Modesto Church of God\nPhone :	209-521-9148\nEmail :	\nWeb Site :
X-ALT-DESC;FMTTYPE=text/html:Easter egg hunt\, bounce house\, games & food.\nContact :	North Modesto Church of God\nPhone :	209-521-9148\nEmail :	\nWeb Site :	
LOCATION:North Modesto Church of God 1918 Sherwood Ave. Modesto\, CA 95356
UID:e.2695.833
SEQUENCE:3
DTSTAMP:20260420T073839Z
URL:https://business.modchamber.org/events/details/easter-family-fun-day-04-04-2015-833
END:VEVENT

END:VCALENDAR
