BEGIN:VCALENDAR
VERSION:2.0
PRODID:-//ChamberMaster//Event Calendar 2.0//EN
METHOD:PUBLISH
X-PUBLISHED-TTL:P3D
REFRESH-INTERVAL:P3D
CALSCALE:GREGORIAN
BEGIN:VEVENT
DTSTART:20160306T040000Z
DTEND:20160305T080000Z
X-MICROSOFT-CDO-ALLDAYEVENT:FALSE
SUMMARY:DSB: AN AMERICAN JOURNEY
DESCRIPTION:This is the #1 Journey tribute band in the world\, and you'll know why after just a few minutes of listening. DSB is revered by its fans as the “next best thing” to Journey for capturing the lush\, signature sound of Steve Perry and company in their prime. These top-notch musicians remain true to Journey's musical legacy and deliver the nostalgic concert experience that will keep you believin'! “They just might do live Journey better than Journey does Journey live!” says the San Diego Union-Tribune.\nContact :	Gallo Center\nPhone :	209-338-2100\nEmail :	\nWeb Site :	galloarts.org
X-ALT-DESC;FMTTYPE=text/html:This is the #1 Journey tribute band in the world\, and you'll know why after just a few minutes of listening. DSB is revered by its fans as the “next best thing” to Journey for capturing the lush\, signature sound of Steve Perry and company in their prime. These top-notch musicians remain true to Journey's musical legacy and deliver the nostalgic concert experience that will keep you believin'! “They just might do live Journey better than Journey does Journey live!” says the San Diego Union-Tribune.\nContact :	Gallo Center\nPhone :	209-338-2100\nEmail :	\nWeb Site :	galloarts.org
LOCATION:Gallo Center 1000 I Street Modesto\, CA 95354
UID:e.2695.1451
SEQUENCE:3
DTSTAMP:20260419T154237Z
URL:https://business.modchamber.org/events/details/dsb-an-american-journey-03-05-2016-1451
END:VEVENT

END:VCALENDAR
