BEGIN:VCALENDAR
VERSION:2.0
PRODID:-//ChamberMaster//Event Calendar 2.0//EN
METHOD:PUBLISH
X-PUBLISHED-TTL:P3D
REFRESH-INTERVAL:P3D
CALSCALE:GREGORIAN
BEGIN:VEVENT
DTSTART:20150306T033000Z
DTEND:20150305T080000Z
X-MICROSOFT-CDO-ALLDAYEVENT:FALSE
SUMMARY:Don Williams
DESCRIPTION:Description :	They came to call Don Williams “the Gentle Giant” in the decades he was a dominating country hit-maker because of both a commanding presence and that laid-back\, easy style that has appealed to adult men and women alike—cutting across national and genre boundaries. When so many country and pop records seem to work as check-off lists of somebody’s idea of how to be a man\, or hard-sell attempts to indicate affection for a woman. Don Williams has never sounded like he felt the need to sell somebody something\, or to prove anything. He's a national treasure.\nContact :	Gallo Center\nPhone :	209-338-2100\nEmail :	\nWeb Site :	galloarts.org
X-ALT-DESC;FMTTYPE=text/html:Description :	They came to call Don Williams “the Gentle Giant” in the decades he was a dominating country hit-maker because of both a commanding presence and that laid-back\, easy style that has appealed to adult men and women alike—cutting across national and genre boundaries. When so many country and pop records seem to work as check-off lists of somebody’s idea of how to be a man\, or hard-sell attempts to indicate affection for a woman. Don Williams has never sounded like he felt the need to sell somebody something\, or to prove anything. He's a national treasure.\nContact :	Gallo Center\nPhone :	209-338-2100\nEmail :	\nWeb Site :	galloarts.org
LOCATION:Gallo center 1000 I Street Modesto\, CA 95354
UID:e.2695.722
SEQUENCE:3
DTSTAMP:20260420T073535Z
URL:https://business.modchamber.org/events/details/don-williams-03-05-2015-722
END:VEVENT

END:VCALENDAR
