BEGIN:VCALENDAR
VERSION:2.0
PRODID:-//ChamberMaster//Event Calendar 2.0//EN
METHOD:PUBLISH
X-PUBLISHED-TTL:P3D
REFRESH-INTERVAL:P3D
CALSCALE:GREGORIAN
BEGIN:VEVENT
DTSTART:20141210T200000Z
DTEND:20141210T210000Z
X-MICROSOFT-CDO-ALLDAYEVENT:FALSE
SUMMARY:Doctors Medical Center Stakeholder Appreciation Luncheon
DESCRIPTION:Doctors Medical Center cordially invites you to a free Stakeholder Appreciation Luncheon on December 10th\, 2014 at the Conference Center. Our guest speaker will be Kirk Whelan\, Director of the Individual and Small Business Sales Division\, Covered California. Mr. Whelan has over 20 years’ of experience as a health care insurance agent.  Kindly reserve your attendance by contacting Cesar Anda\, cesar.anda@gmail.com or 510-919-5443
X-ALT-DESC;FMTTYPE=text/html:<DIV style="FONT-FAMILY: Arial"><P class=MsoNormal style="MARGIN: 0in 0in 0pt\; mso-margin-top-alt: auto\; mso-margin-bottom-alt: auto"><FONT face="Times New Roman">Doctors Medical Center cordially invites you to a free Stakeholder Appreciation Luncheon on December 10<SUP>th</SUP>\, 2014 at the Conference Center. Our guest speaker will be Kirk Whelan\, Director of the Individual and Small Business Sales Division\, Covered California. Mr. Whelan has over 20 years’ of experience as a health care insurance agent.&nbsp\;</FONT></P><P class=MsoNormal style="MARGIN: 0in 0in 0pt\; mso-margin-top-alt: auto\; mso-margin-bottom-alt: auto"><FONT face="Times New Roman"></FONT>&nbsp\;</P><P class=MsoNormal style="MARGIN: 0in 0in 0pt\; mso-margin-top-alt: auto\; mso-margin-bottom-alt: auto"><FONT face="Times New Roman">Kindly reserve your attendance by contacting Cesar Anda\, <A href="mailto:cesar.anda@gmail.com">cesar.anda@gmail.com</A> or 510-919-5443</FONT></P><P class=MsoNormal style="MARGIN: 0in 0in 0pt\; mso-margin-top-alt: auto\; mso-margin-bottom-alt: auto"><FONT face="Times New Roman"></FONT>&nbsp\;</P><P class=MsoNormal style="MARGIN: 0in 0in 0pt\; mso-margin-top-alt: auto\; mso-margin-bottom-alt: auto">&nbsp\;</P></DIV>
LOCATION:Doctors Medical Center Conference Center 1441 Florida Ave Modesto\, CA
UID:e.2695.641
SEQUENCE:3
DTSTAMP:20260422T134211Z
URL:https://business.modchamber.org/events/details/doctors-medical-center-stakeholder-appreciation-luncheon-12-10-2014-641
END:VEVENT

END:VCALENDAR
