BEGIN:VCALENDAR
VERSION:2.0
PRODID:-//ChamberMaster//Event Calendar 2.0//EN
METHOD:PUBLISH
X-PUBLISHED-TTL:P3D
REFRESH-INTERVAL:P3D
CALSCALE:GREGORIAN
BEGIN:VEVENT
DTSTART:20150816T030000Z
DTEND:20150815T070000Z
X-MICROSOFT-CDO-ALLDAYEVENT:FALSE
SUMMARY:DL HUGHLEY
DESCRIPTION:One of the most popular and highly recognized stand-up comedians on the road today has also made quite an impression in the radio\, television and film arenas. DL Hughley can currently be heard on radio as the host of “The DL Hughley Show\,” which is syndicated in more than 50 cities nationwide. He’s also appeared on “Dancing with the Stars” and in the hit comedy docu-film\, “The Original Kings of Comedy.” First and foremost a stand-up comedian\, DL’s humor is laced with astute wit and political savvy. Adult Themes.\nContact :	Gallo Center\nPhone :	209-338-2100\nEmail :	\nWeb Site :	galloarts.org
X-ALT-DESC;FMTTYPE=text/html:	One of the most popular and highly recognized stand-up comedians on the road today has also made quite an impression in the radio\, television and film arenas. DL Hughley can currently be heard on radio as the host of “The DL Hughley Show\,” which is syndicated in more than 50 cities nationwide. He’s also appeared on “Dancing with the Stars” and in the hit comedy docu-film\, “The Original Kings of Comedy.” First and foremost a stand-up comedian\, DL’s humor is laced with astute wit and political savvy. Adult Themes.\nContact :	Gallo Center\nPhone :	209-338-2100\nEmail :	\nWeb Site :	galloarts.org
LOCATION:Gallo Center 1000 I St Modesto\, CA 95354
UID:e.2695.1163
SEQUENCE:3
DTSTAMP:20260420T002909Z
URL:https://business.modchamber.org/events/details/dl-hughley-08-15-2015-1163
END:VEVENT

END:VCALENDAR
