BEGIN:VCALENDAR
VERSION:2.0
PRODID:-//ChamberMaster//Event Calendar 2.0//EN
METHOD:PUBLISH
X-PUBLISHED-TTL:P3D
REFRESH-INTERVAL:P3D
CALSCALE:GREGORIAN
BEGIN:VEVENT
DTSTART:20151025T000000Z
DTEND:20151024T070000Z
X-MICROSOFT-CDO-ALLDAYEVENT:FALSE
SUMMARY:DIWALI CELEBRATION
DESCRIPTION:Showcasing the rich fabric of Indian classical dance\, music\, rhythm\, and the stories of ancient times \n\nBy Farah Shaikh \n\nRenowned Kathak artist\, with Ben Kumin\, Jim Owen\, and Deepti Warrier \n\nA night of exhilarating power combined with delicate beauty \n\n4-5 p.m. – complimentary snacks \n5-7 p.m. – dance show \nTickets - $50\, $100 \n\nFor tickets\, please email us at hindutempleofmodesto4801tully@gmail.com \nOr call 209-918-0346 or 209-277-4362 \nContact :	Gallo Center\nPhone :	09-918-0346 or 209-277-4362\nEmail :	\nWeb Site :
X-ALT-DESC;FMTTYPE=text/html:Showcasing the rich fabric of Indian classical dance\, music\, rhythm\, and the stories of ancient times \n\nBy Farah Shaikh \n\nRenowned Kathak artist\, with Ben Kumin\, Jim Owen\, and Deepti Warrier \n\nA night of exhilarating power combined with delicate beauty \n\n4-5 p.m. – complimentary snacks \n5-7 p.m. – dance show \nTickets - $50\, $100 \n\nFor tickets\, please email us at hindutempleofmodesto4801tully@gmail.com \nOr call 209-918-0346 or 209-277-4362 \nContact :	Gallo Center\nPhone :	09-918-0346 or 209-277-4362\nEmail :	\nWeb Site :	
LOCATION:Gallo Center 1000 I St Modesto\, CA 95354
UID:e.2695.1245
SEQUENCE:3
DTSTAMP:20260419T230230Z
URL:https://business.modchamber.org/events/details/diwali-celebration-10-24-2015-1245
END:VEVENT

END:VCALENDAR
