BEGIN:VCALENDAR
VERSION:2.0
PRODID:-//ChamberMaster//Event Calendar 2.0//EN
METHOD:PUBLISH
X-PUBLISHED-TTL:P3D
REFRESH-INTERVAL:P3D
CALSCALE:GREGORIAN
BEGIN:VEVENT
DTSTART:20151018T180000Z
DTEND:20151018T070000Z
X-MICROSOFT-CDO-ALLDAYEVENT:FALSE
SUMMARY:Divas & Dudes 3rd Annual Brunch - Making Strides Against Breast Cancer
DESCRIPTION:Divas & Dudes Fighting for a Cure Brunch Fundraiser.\n\nFollowing the Making Strides Walk at the Gallo Center. \n\nBrunch cost is $25.00 and the last day to purchase tickets is October 12th. \n\nTickets available at Renee's Day Spa\, 1245 McHenry Ave. \nPastenieks Bucheli & Falasco\, 1301 L Street Ste. 1\nContact :	\nPhone :	\nEmail :	\nWeb Site :	www.divasanddudesfightingforacure@yahoo.com
X-ALT-DESC;FMTTYPE=text/html:Divas & Dudes Fighting for a Cure Brunch Fundraiser.\n\nFollowing the Making Strides Walk at the Gallo Center. \n\nBrunch cost is $25.00 and the last day to purchase tickets is October 12th. \n\nTickets available at Renee's Day Spa\, 1245 McHenry Ave. \nPastenieks Bucheli & Falasco\, 1301 L Street Ste. 1\nContact :	\nPhone :	\nEmail :	\nWeb Site :	www.divasanddudesfightingforacure@yahoo.com
LOCATION:Doubletree Hotel 1150 9th St Modesto\, CA 95354
UID:e.2695.1237
SEQUENCE:3
DTSTAMP:20260419T230531Z
URL:https://business.modchamber.org/events/details/divas-dudes-3rd-annual-brunch-making-strides-against-breast-cancer-10-18-2015-1237
END:VEVENT

END:VCALENDAR
