BEGIN:VCALENDAR
VERSION:2.0
PRODID:-//ChamberMaster//Event Calendar 2.0//EN
METHOD:PUBLISH
X-PUBLISHED-TTL:P3D
REFRESH-INTERVAL:P3D
CALSCALE:GREGORIAN
BEGIN:VEVENT
DTSTART:20150919T210000Z
DTEND:20150919T070000Z
X-MICROSOFT-CDO-ALLDAYEVENT:FALSE
SUMMARY:DISNEY'S CHOO-CHOO SOUL
DESCRIPTION:DISNEY'S CHOO-CHOO SOUL\nWITH GENEVIEVE\n\nImagine parents honestly being able to enjoy the music that their children enjoy. Imagine soulful and current renditions of the ABC’s\, 1-2-3’s\, and learning how to be polite. Imagine a diverse\, and incredibly hip duo\, teaching children through music on an animated train. That's "Disney's Choo-Choo Soul with Genevieve\," an enormously popular children's show on TV and stage. This 2007 Parent's Choice Award winner features perky Genevieve Goings as the Train Conductor assisted by DC\, her beatboxing and breakdancing engineer played by Constantine Abramson.\nContact :	Gallo Center\nPhone :	209-338-2100\nEmail :	\nWeb Site :	galloarts.org
X-ALT-DESC;FMTTYPE=text/html:	DISNEY'S CHOO-CHOO SOUL\nWITH GENEVIEVE\n\nImagine parents honestly being able to enjoy the music that their children enjoy. Imagine soulful and current renditions of the ABC’s\, 1-2-3’s\, and learning how to be polite. Imagine a diverse\, and incredibly hip duo\, teaching children through music on an animated train. That's "Disney's Choo-Choo Soul with Genevieve\," an enormously popular children's show on TV and stage. This 2007 Parent's Choice Award winner features perky Genevieve Goings as the Train Conductor assisted by DC\, her beatboxing and breakdancing engineer played by Constantine Abramson.\nContact :	Gallo Center\nPhone :	209-338-2100\nEmail :	\nWeb Site :	galloarts.org
LOCATION:Gallo Center 1000 I ST Modesto\, CA 95354
UID:e.2695.1178
SEQUENCE:3
DTSTAMP:20260419T231906Z
URL:https://business.modchamber.org/events/details/disney-s-choo-choo-soul-09-19-2015-1178
END:VEVENT

END:VCALENDAR
