BEGIN:VCALENDAR
VERSION:2.0
PRODID:-//ChamberMaster//Event Calendar 2.0//EN
METHOD:PUBLISH
X-PUBLISHED-TTL:P3D
REFRESH-INTERVAL:P3D
CALSCALE:GREGORIAN
BEGIN:VEVENT
DTSTART:20150418T020000Z
DTEND:20150417T070000Z
X-MICROSOFT-CDO-ALLDAYEVENT:FALSE
SUMMARY:Dino Light
DESCRIPTION:Lightwire Theater & Corbian Visual Arts & Dance present\nDINO LIGHT\n\nThis brilliant production is from the same team\, Lightwire Theater and Corbian Visual Arts & Dance\, that brought The Ugly Duckling and The Tortoise and the Hare to the Center last season. It tells the story of a friendly dinosaur\, Darwin\, who wanders away from home and discovers a world of creatures who light up the darkness and help him find the true meaning of love. Unique and visually dazzling\, the show uses a cutting-edge blend of puppetry\, technology and dance that will leave your children spellbound in wonder.\nContact : 	Gallo Center\nPhone : 	209-338-2100\nEmail : 	\nWeb Site : 	galloarts.org
X-ALT-DESC;FMTTYPE=text/html:	Lightwire Theater & Corbian Visual Arts & Dance present\nDINO LIGHT\n\nThis brilliant production is from the same team\, Lightwire Theater and Corbian Visual Arts & Dance\, that brought The Ugly Duckling and The Tortoise and the Hare to the Center last season. It tells the story of a friendly dinosaur\, Darwin\, who wanders away from home and discovers a world of creatures who light up the darkness and help him find the true meaning of love. Unique and visually dazzling\, the show uses a cutting-edge blend of puppetry\, technology and dance that will leave your children spellbound in wonder.\nContact : 	Gallo Center\nPhone : 	209-338-2100\nEmail : 	\nWeb Site : 	galloarts.org
LOCATION:Gallo Center 1000 I St Modesto\, CA 95354
UID:e.2695.871
SEQUENCE:3
DTSTAMP:20260420T062554Z
URL:https://business.modchamber.org/events/details/dino-light-04-17-2015-871
END:VEVENT

END:VCALENDAR
