BEGIN:VCALENDAR
VERSION:2.0
PRODID:-//ChamberMaster//Event Calendar 2.0//EN
METHOD:PUBLISH
X-PUBLISHED-TTL:P3D
REFRESH-INTERVAL:P3D
CALSCALE:GREGORIAN
BEGIN:VEVENT
DTSTART:20151205T170000Z
DTEND:20151205T080000Z
X-MICROSOFT-CDO-ALLDAYEVENT:FALSE
SUMMARY:Dickens Faire
DESCRIPTION:You will be taken back to the Victorian Era as you are greeted by costumed carolers as the famous McHenry Mansion\, which will be decorated in Christmas splendor. Come see the house in its holiday attires & hear stories of Christmases' past\, street fair with crafts and farmers market.\nContact :	McHenry Mansion\nPhone :	(209) 549-0428\nEmail :	\nWeb Site :	www.mchenrymansion.org
X-ALT-DESC;FMTTYPE=text/html:You will be taken back to the Victorian Era as you are greeted by costumed carolers as the famous McHenry Mansion\, which will be decorated in Christmas splendor. Come see the house in its holiday attires & hear stories of Christmases' past\, street fair with crafts and farmers market.\nContact :	McHenry Mansion\nPhone :	(209) 549-0428\nEmail :	\nWeb Site :	www.mchenrymansion.org
LOCATION:McHenry Mansion 906 15th St Modesto\, CA 95354
UID:e.2695.1293
SEQUENCE:3
DTSTAMP:20260419T190919Z
URL:https://business.modchamber.org/events/details/dickens-faire-12-05-2015-1293
END:VEVENT

END:VCALENDAR
