BEGIN:VCALENDAR
VERSION:2.0
PRODID:-//ChamberMaster//Event Calendar 2.0//EN
METHOD:PUBLISH
X-PUBLISHED-TTL:P3D
REFRESH-INTERVAL:P3D
CALSCALE:GREGORIAN
BEGIN:VEVENT
DTSTART:20140920T010000Z
DTEND:20140920T040000Z
X-MICROSOFT-CDO-ALLDAYEVENT:FALSE
SUMMARY:Denims & Diamonds Crime Stopping Cuisine
DESCRIPTION:Food & Wine Tasting
X-ALT-DESC;FMTTYPE=text/html:Food & Wine Tasting
LOCATION:Seasons Event Center 945 McHenry Avenue Modesto\, CA 95350
UID:e.2695.432
SEQUENCE:3
DTSTAMP:20260422T181008Z
URL:https://business.modchamber.org/events/details/denims-diamonds-crime-stopping-cuisine-09-19-2014-432
END:VEVENT

END:VCALENDAR
