BEGIN:VCALENDAR
VERSION:2.0
PRODID:-//ChamberMaster//Event Calendar 2.0//EN
METHOD:PUBLISH
X-PUBLISHED-TTL:P3D
REFRESH-INTERVAL:P3D
CALSCALE:GREGORIAN
BEGIN:VEVENT
DTSTART:20160814T170000Z
DTEND:20160814T070000Z
X-MICROSOFT-CDO-ALLDAYEVENT:FALSE
SUMMARY:Del Rio Country Club's Premiere Car Show
DESCRIPTION:10th Anniversary Car Show!\n\nBeginning at 10:00am\n\nUnder Del Rio's renowned Oak Tree\n\nAwards & raffle at 2:00pm\n\n$45.00 vehicle registration\, includes - T-Shit\, Continental breakfast\, 2 buffets & beverages.\n\n$20 admission\, children under 12 FREE includes BBQ buffet & beverages\n\nProceeds to benefit FIRST TEE of the Central Valley\n\nContact : 	Del Rio Country Club\nPhone : 	209-341-2416\nEmail : 	\nWeb Site :
X-ALT-DESC;FMTTYPE=text/html:10th Anniversary Car Show!\n\nBeginning at 10:00am\n\nUnder Del Rio's renowned Oak Tree\n\nAwards & raffle at 2:00pm\n\n$45.00 vehicle registration\, includes - T-Shit\, Continental breakfast\, 2 buffets & beverages.\n\n$20 admission\, children under 12 FREE includes BBQ buffet & beverages\n\nProceeds to benefit FIRST TEE of the Central Valley\n\nContact : 	Del Rio Country Club\nPhone : 	209-341-2416\nEmail : 	\nWeb Site :
LOCATION:Del Rio Country Club 801 Stewart Club Modesto\, CA 95356
UID:e.2695.1747
SEQUENCE:3
DTSTAMP:20260419T101000Z
URL:https://business.modchamber.org/events/details/del-rio-country-club-s-premiere-car-show-08-14-2016-1747
END:VEVENT

END:VCALENDAR
