BEGIN:VCALENDAR
VERSION:2.0
PRODID:-//ChamberMaster//Event Calendar 2.0//EN
METHOD:PUBLISH
X-PUBLISHED-TTL:P3D
REFRESH-INTERVAL:P3D
CALSCALE:GREGORIAN
BEGIN:VEVENT
DTSTART:20151031T020000Z
DTEND:20151030T070000Z
X-MICROSOFT-CDO-ALLDAYEVENT:FALSE
SUMMARY:Deathworkz Haunted House - Thrill Seeker
DESCRIPTION:SPECIAL Thrill Seeker Scare - 18+ ONLY WITH I.D.\nYou will need a photo i.d./Drivers License and you MUST sign our contract in order to gain entrance. If you do not have the proper identification\, you will not be able to get in. NO EXCEPTIONS. DO NOT wear anything you really love including shoes as you will be getting a lil dirty. NO PONCHOS OR HOODIES WILL BE ALLOWED IN THE HAUNT. Again\, I stress\, wear old junky clothes. This a special Adults Only night this year... no minors will be allowed to enter\, not even with a guardian. \n\n7:00 pm - 9:30 pm & 10:00 to 11:00pm\nContact :	\nPhone :	\nEmail :	\nWeb Site :	www.Deathworkz.com
X-ALT-DESC;FMTTYPE=text/html:SPECIAL Thrill Seeker Scare - 18+ ONLY WITH I.D.\nYou will need a photo i.d./Drivers License and you MUST sign our contract in order to gain entrance. If you do not have the proper identification\, you will not be able to get in. NO EXCEPTIONS. DO NOT wear anything you really love including shoes as you will be getting a lil dirty. NO PONCHOS OR HOODIES WILL BE ALLOWED IN THE HAUNT. Again\, I stress\, wear old junky clothes. This a special Adults Only night this year... no minors will be allowed to enter\, not even with a guardian. \n\n7:00 pm - 9:30 pm & 10:00 to 11:00pm\nContact :	\nPhone :	\nEmail :	\nWeb Site :	www.Deathworkz.com
LOCATION:Deathworkz St. Charles Place Modesto\, CA
UID:e.2695.1183
SEQUENCE:3
DTSTAMP:20260419T214610Z
URL:https://business.modchamber.org/events/details/deathworkz-haunted-house-thrill-seeker-10-30-2015-1183
END:VEVENT

END:VCALENDAR
