BEGIN:VCALENDAR
VERSION:2.0
PRODID:-//ChamberMaster//Event Calendar 2.0//EN
METHOD:PUBLISH
X-PUBLISHED-TTL:P3D
REFRESH-INTERVAL:P3D
CALSCALE:GREGORIAN
BEGIN:VEVENT
DTSTART:20151101T020000Z
DTEND:20151031T070000Z
X-MICROSOFT-CDO-ALLDAYEVENT:FALSE
SUMMARY:Deathworkz Haunted House - Halloween Night!
DESCRIPTION:HALLOWEEN NIGHT!!\n\nHalloween Night is a regular scare but the rules of entry are still in full effect. Please note - again - we reserve the right to refuse entry to anyone for any reason. Please bring your best behavior and come to have fun and not ruin it for others. We will shut down the haunt if there are instances that we deem are unacceptable. Security will be STRONGLY enforced. \n\n5:30 - 6:30 - special entrance for kiddies - no scare - Candy will be passed out to the kiddies.\n\n7:00 pm - 9:30 pm & 10:00 to 12:00 am\nContact :	\nPhone :	\nEmail :	\nWeb Site :	www.Deathworkz.com
X-ALT-DESC;FMTTYPE=text/html:	HALLOWEEN NIGHT!!\n\nHalloween Night is a regular scare but the rules of entry are still in full effect. Please note - again - we reserve the right to refuse entry to anyone for any reason. Please bring your best behavior and come to have fun and not ruin it for others. We will shut down the haunt if there are instances that we deem are unacceptable. Security will be STRONGLY enforced. \n\n5:30 - 6:30 - special entrance for kiddies - no scare - Candy will be passed out to the kiddies.\n\n7:00 pm - 9:30 pm & 10:00 to 12:00 am\nContact :	\nPhone :	\nEmail :	\nWeb Site :	www.Deathworkz.com
LOCATION:Deathworkz St. Charles Place Modesto\, CA 95350
UID:e.2695.1184
SEQUENCE:3
DTSTAMP:20260419T214640Z
URL:https://business.modchamber.org/events/details/deathworkz-haunted-house-halloween-night-10-31-2015-1184
END:VEVENT

END:VCALENDAR
