BEGIN:VCALENDAR
VERSION:2.0
PRODID:-//ChamberMaster//Event Calendar 2.0//EN
METHOD:PUBLISH
X-PUBLISHED-TTL:P3D
REFRESH-INTERVAL:P3D
CALSCALE:GREGORIAN
BEGIN:VEVENT
DTSTART:20151102T030000Z
DTEND:20151101T070000Z
X-MICROSOFT-CDO-ALLDAYEVENT:FALSE
SUMMARY:Deathworkz Haunted House - Bonus Night ''Torment''
DESCRIPTION:BRAND NEW ATTRACTION FOR DEATHWORKZ IN 2015!!! \n\nTORMENT - A highly intense experience - 18+ ONLY WITH I.D.\n\nThis night was created especially for those who need MORE than what the Thrill Seeker Night offers. More personal interaction. More intense effects. A much deeper scare. Deathworkz offers this BONUS NIGHT available on Sunday\, November 1st. Only one person may enter at one time. Very few time slots available. Your experience WILL be scheduled\, you cannot just walk up and get in. \n\nJust like with the Thrill Seeker\, you will need a photo i.d./Drivers License and you MUST sign our contract in order to gain entrance. If you do not have the proper identification\, you will not be able to get in. NO EXCEPTIONS. DO NOT wear anything you really love including shoes as you will be getting a lil dirty. NO PONCHOS OR HOODIES WILL BE ALLOWED IN THE HAUNT. Again\, I stress\, wear old junky clothes. This a special Adults Only night this year... no minors will be allowed to enter\, not even with a guardians permission. If you have any questions\, please email Deathworkz@gmail.com\, but please note...your questions of what will happen at TORMENT will not be answered. To find out what you may be in store for....follow us on Facebook\, Instagram\, Twitter and here at our website for more TORMENT sneak peeks.\n\nContact :	\nPhone :	\nEmail :	\nWeb Site :	www.Deathworkz.com
X-ALT-DESC;FMTTYPE=text/html:BRAND NEW ATTRACTION FOR DEATHWORKZ IN 2015!!! \n\nTORMENT - A highly intense experience - 18+ ONLY WITH I.D.\n\nThis night was created especially for those who need MORE than what the Thrill Seeker Night offers. More personal interaction. More intense effects. A much deeper scare. Deathworkz offers this BONUS NIGHT available on Sunday\, November 1st. Only one person may enter at one time. Very few time slots available. Your experience WILL be scheduled\, you cannot just walk up and get in. \n\nJust like with the Thrill Seeker\, you will need a photo i.d./Drivers License and you MUST sign our contract in order to gain entrance. If you do not have the proper identification\, you will not be able to get in. NO EXCEPTIONS. DO NOT wear anything you really love including shoes as you will be getting a lil dirty. NO PONCHOS OR HOODIES WILL BE ALLOWED IN THE HAUNT. Again\, I stress\, wear old junky clothes. This a special Adults Only night this year... no minors will be allowed to enter\, not even with a guardians permission. If you have any questions\, please email Deathworkz@gmail.com\, but please note...your questions of what will happen at TORMENT will not be answered. To find out what you may be in store for....follow us on Facebook\, Instagram\, Twitter and here at our website for more TORMENT sneak peeks.\n\nContact :	\nPhone :	\nEmail :	\nWeb Site :	www.Deathworkz.com\n
LOCATION:Deathworkz St. Charles Place Modesto\, CA 95350
UID:e.2695.1251
SEQUENCE:3
DTSTAMP:20260419T203950Z
URL:https://business.modchamber.org/events/details/deathworkz-haunted-house-bonus-night-torment-11-01-2015-1251
END:VEVENT

END:VCALENDAR
