BEGIN:VCALENDAR
VERSION:2.0
PRODID:-//ChamberMaster//Event Calendar 2.0//EN
METHOD:PUBLISH
X-PUBLISHED-TTL:P3D
REFRESH-INTERVAL:P3D
CALSCALE:GREGORIAN
BEGIN:VEVENT
DTSTART:20151030T020000Z
DTEND:20151030T050000Z
X-MICROSOFT-CDO-ALLDAYEVENT:FALSE
SUMMARY:Deathworkz Haunted House - Blackout Night
DESCRIPTION:Back By Popular Demand - Blackout Night - Minors in Junior High School MUST be accompanied by an adult\nYou will need to purchase a glowstick FROM DEATHWORKZ prior to entry. They are only $1.00 and the funds raised for this helps keep our haunt going as we are a not-for-profit haunt. \n\nBEWARE!! The monsters inside will be trying to take your glowstick!\n\nIf you are in junior high and plan to attend\, you will need to bring your student I.D. with you with you ALONG with an adult - you can only go through accompanied by an adult who will take responsibility for you and your actions. High schoolers will need to bring their student i.d. but do not require an adult to go through with them.\nContact :	\nPhone :	\nEmail :	\nWeb Site :	www.Deathworkz.com
X-ALT-DESC;FMTTYPE=text/html:Back By Popular Demand - Blackout Night - Minors in Junior High School MUST be accompanied by an adult\nYou will need to purchase a glowstick FROM DEATHWORKZ prior to entry. They are only $1.00 and the funds raised for this helps keep our haunt going as we are a not-for-profit haunt. \n\nBEWARE!! The monsters inside will be trying to take your glowstick!\n\nIf you are in junior high and plan to attend\, you will need to bring your student I.D. with you with you ALONG with an adult - you can only go through accompanied by an adult who will take responsibility for you and your actions. High schoolers will need to bring their student i.d. but do not require an adult to go through with them.\nContact :	\nPhone :	\nEmail :	\nWeb Site :	www.Deathworkz.com
LOCATION:Deathworkz St. Charles Place Modesto\, CA 95350
UID:e.2695.1182
SEQUENCE:3
DTSTAMP:20260419T214641Z
URL:https://business.modchamber.org/events/details/deathworkz-haunted-house-blackout-night-10-29-2015-1182
END:VEVENT

END:VCALENDAR
