BEGIN:VCALENDAR
VERSION:2.0
PRODID:-//ChamberMaster//Event Calendar 2.0//EN
METHOD:PUBLISH
X-PUBLISHED-TTL:P3D
REFRESH-INTERVAL:P3D
CALSCALE:GREGORIAN
BEGIN:VEVENT
DTSTART:20151222T033000Z
DTEND:20151221T080000Z
X-MICROSOFT-CDO-ALLDAYEVENT:FALSE
SUMMARY:Dave Koz & Friends Christmas
DESCRIPTION:DAVE KOZ & FRIENDS CHRISTMAS TOUR 2015\nSpecial Guests: Jonathan Butler\, Candy Dulfer & Bill Medley\n\nDave Koz and Friends Christmas Tour 2015 is a cherished annual holiday tradition bringing together a magical combination of musicians to celebrate this special season. Joining multi-GRAMMY® nominee and saxophonist extraordinaire Koz in this concert will be South African singer/guitarist Jonathan Butler\, Dutch saxophone star Candy Dulfer and legendary Righteous Brother Bill Medley! The foursome will perform hits from their respective catalogues and jam on fresh\, lively arrangements of seasonal favorites in an uplifting\, high-energy show the whole family will love.\nContact :	Gallo Center\nPhone :	209-338-2100\nEmail :	\nWeb Site :	galloarts.org
X-ALT-DESC;FMTTYPE=text/html:DAVE KOZ & FRIENDS CHRISTMAS TOUR 2015\nSpecial Guests: Jonathan Butler\, Candy Dulfer & Bill Medley\n\nDave Koz and Friends Christmas Tour 2015 is a cherished annual holiday tradition bringing together a magical combination of musicians to celebrate this special season. Joining multi-GRAMMY® nominee and saxophonist extraordinaire Koz in this concert will be South African singer/guitarist Jonathan Butler\, Dutch saxophone star Candy Dulfer and legendary Righteous Brother Bill Medley! The foursome will perform hits from their respective catalogues and jam on fresh\, lively arrangements of seasonal favorites in an uplifting\, high-energy show the whole family will love.\nContact :	Gallo Center\nPhone :	209-338-2100\nEmail :	\nWeb Site :	galloarts.org
LOCATION:Gallo Center 1000 I St Modesto\, CA 95354
UID:e.2695.1319
SEQUENCE:3
DTSTAMP:20260419T191012Z
URL:https://business.modchamber.org/events/details/dave-koz-friends-christmas-12-21-2015-1319
END:VEVENT

END:VCALENDAR
