BEGIN:VCALENDAR
VERSION:2.0
PRODID:-//ChamberMaster//Event Calendar 2.0//EN
METHOD:PUBLISH
X-PUBLISHED-TTL:P3D
REFRESH-INTERVAL:P3D
CALSCALE:GREGORIAN
BEGIN:VEVENT
DTSTART:20151219T030000Z
DTEND:20151218T080000Z
X-MICROSOFT-CDO-ALLDAYEVENT:FALSE
SUMMARY:Dave Coulier Stand Up Live!
DESCRIPTION:Dave is perhaps best known as “Joey” from the hit ABC television series\, Full House\, which aired for eight seasons and can now be seen on Nick At Nite. Dave is also co-starring in Fuller House\, which will begin airing on Netflix in 2016. \n\nYou’ve seen Dave guest star on How I Met Your Mother on CBS and appearances on the Super Bowl for Dannon Yogurt\, Jimmy Fallon\, The View\, OPRAH: Where Are They Now?\, Bravo’s Watch What Happens L!ve\, Good Morning America and The Today Show. \n\nHighly regarded for his voice-over talent. He began by doing voices on Scooby Doo\, and then went on to Jim Henson's multiple Emmy Award-winning animated series\, The Muppet Babies\, where he portrayed Animal\, Bunsen Honeydew\, Waldorf and Statler (the two old guys in the balcony on the original Muppet Show) and Bean Bunny. Dave also voiced Peter Venkman for The Real Ghostbusters on ABC. \n\nHe can now be heard on Robot Chicken and China\, IL for Cartoon Networks' Adult Swim lineup. Dave can also be heard as the voice of Kellogg’s Raisin Bran and the American Legends GEICO radio campaign. \n\nIn 2016\, Dave will launch his first\, one-hour standup comedy special titled “Glorified Birthday Clown.”\nContact :	Gallo Center\nPhone :	209-338-2100\nEmail :	\nWeb Site :	galloarts.org
X-ALT-DESC;FMTTYPE=text/html:Dave is perhaps best known as “Joey” from the hit ABC television series\, Full House\, which aired for eight seasons and can now be seen on Nick At Nite. Dave is also co-starring in Fuller House\, which will begin airing on Netflix in 2016. \n\nYou’ve seen Dave guest star on How I Met Your Mother on CBS and appearances on the Super Bowl for Dannon Yogurt\, Jimmy Fallon\, The View\, OPRAH: Where Are They Now?\, Bravo’s Watch What Happens L!ve\, Good Morning America and The Today Show. \n\nHighly regarded for his voice-over talent. He began by doing voices on Scooby Doo\, and then went on to Jim Henson's multiple Emmy Award-winning animated series\, The Muppet Babies\, where he portrayed Animal\, Bunsen Honeydew\, Waldorf and Statler (the two old guys in the balcony on the original Muppet Show) and Bean Bunny. Dave also voiced Peter Venkman for The Real Ghostbusters on ABC. \n\nHe can now be heard on Robot Chicken and China\, IL for Cartoon Networks' Adult Swim lineup. Dave can also be heard as the voice of Kellogg’s Raisin Bran and the American Legends GEICO radio campaign. \n\nIn 2016\, Dave will launch his first\, one-hour standup comedy special titled “Glorified Birthday Clown.”\nContact :	Gallo Center\nPhone :	209-338-2100\nEmail :	\nWeb Site :	galloarts.org
LOCATION:Gallo Center 1000 I St Modesto\, CA 95354
UID:e.2695.1312
SEQUENCE:3
DTSTAMP:20260419T191008Z
URL:https://business.modchamber.org/events/details/dave-coulier-stand-up-live-12-18-2015-1312
END:VEVENT

END:VCALENDAR
