BEGIN:VCALENDAR
VERSION:2.0
PRODID:-//ChamberMaster//Event Calendar 2.0//EN
METHOD:PUBLISH
X-PUBLISHED-TTL:P3D
REFRESH-INTERVAL:P3D
CALSCALE:GREGORIAN
BEGIN:VEVENT
DTSTART:20140624T220000Z
DTEND:20140625T000000Z
X-MICROSOFT-CDO-ALLDAYEVENT:FALSE
SUMMARY:Data Path & SBA Award Recognition Ceremony!
DESCRIPTION:The U.S. Small Business Administration's (SBA) Fresno District Office announced David Darmstandler and James Bates\, owners of Data Path\, Inc. of Modesto have been selected as the 2014 Central California Small Business Person of the Year (http://www.sba.gov/about-offices-content/2/3098 ). \n\nSBA representatives will be visiting Data Path to present the award to David and James – so we figured we would make it a party!
X-ALT-DESC;FMTTYPE=text/html:The U.S. Small Business Administration's (SBA) Fresno District Office announced David Darmstandler and James Bates\, owners of Data Path\, Inc. of Modesto have been selected as the 2014 Central California Small Business Person of the Year (http://www.sba.gov/about-offices-content/2/3098 ). \n\nSBA representatives will be visiting Data Path to present the award to David and James – so we figured we would make it a party!
LOCATION:Data Path\, Inc. 318 McHenry Ave. Modesto\, CA 95354
UID:e.2695.487
SEQUENCE:3
DTSTAMP:20260422T223629Z
URL:https://business.modchamber.org/events/details/data-path-sba-award-recognition-ceremony-06-24-2014-487
END:VEVENT

END:VCALENDAR
