BEGIN:VCALENDAR
VERSION:2.0
PRODID:-//ChamberMaster//Event Calendar 2.0//EN
METHOD:PUBLISH
X-PUBLISHED-TTL:P3D
REFRESH-INTERVAL:P3D
CALSCALE:GREGORIAN
BEGIN:VEVENT
DTSTART:20140423T180000Z
DTEND:20140423T200000Z
X-MICROSOFT-CDO-ALLDAYEVENT:FALSE
SUMMARY:Data Path & Ruckus Wireless 2014 Free Lunch & Learn
DESCRIPTION:Join us for a free lunch to learn the latest developments in enterprise wireless and how it can helpy our organization.
X-ALT-DESC;FMTTYPE=text/html:Join us for a free lunch to learn the latest developments in enterprise wireless and how it can helpy our organization.
LOCATION:DEWZ Restaurant 1505 J St. Modesto\, CA 95354
UID:e.2695.418
SEQUENCE:3
DTSTAMP:20260423T014821Z
URL:https://business.modchamber.org/events/details/data-path-ruckus-wireless-2014-free-lunch-learn-04-23-2014-418
END:VEVENT

END:VCALENDAR
