BEGIN:VCALENDAR
VERSION:2.0
PRODID:-//ChamberMaster//Event Calendar 2.0//EN
METHOD:PUBLISH
X-PUBLISHED-TTL:P3D
REFRESH-INTERVAL:P3D
CALSCALE:GREGORIAN
BEGIN:VEVENT
DTSTART:20140912T180000Z
DTEND:20140913T010000Z
X-MICROSOFT-CDO-ALLDAYEVENT:FALSE
SUMMARY:Data Path 2nd Annual Golf Tournament Benefiting Youth for Ch
DESCRIPTION:Spring Creek Golf and Country Club is a private\, member-owned championship club\, located on 101 unique acres of ancient oaks along the Stanislaus River.  It is a superb golf environment with exceptional member services and excellent\, first-class facilities to fulfill the social and recreational desires of our members and guests.
X-ALT-DESC;FMTTYPE=text/html:Spring Creek Golf and Country Club is a private\, member-owned championship club\, located on 101 unique acres of ancient oaks along the Stanislaus River.  It is a superb golf environment with exceptional member services and excellent\, first-class facilities to fulfill the social and recreational desires of our members and guests.
LOCATION:Spring Creek Golf and Country Club 1580 Spring Creek Dr. Ripon\, CA 95366
UID:e.2695.559
SEQUENCE:3
DTSTAMP:20260422T180900Z
URL:https://business.modchamber.org/events/details/data-path-2nd-annual-golf-tournament-benefiting-youth-for-ch-09-12-2014-559
END:VEVENT

END:VCALENDAR
