BEGIN:VCALENDAR
VERSION:2.0
PRODID:-//ChamberMaster//Event Calendar 2.0//EN
METHOD:PUBLISH
X-PUBLISHED-TTL:P3D
REFRESH-INTERVAL:P3D
CALSCALE:GREGORIAN
BEGIN:VEVENT
DTSTART:20160304T033000Z
DTEND:20160303T080000Z
X-MICROSOFT-CDO-ALLDAYEVENT:FALSE
SUMMARY:DANA CARVEY
DESCRIPTION:Dana Carvey first appeared at the Gallo Center in 2009\, and then again in 2013\, in both cases delighting capacity audiences with his uproarious comedy. A repertory member of "Saturday Night Live" for seven seasons\, Carvey is best known for his characters the Church Lady\; Hans\, of the Hans and Franz body building duo\; and Garth\, Wayne Campbell's 'Excellent Co-Host' on the immensely popular sketch 'Wayne's World.' He also is renowned for his impersonations of Ex-President George H. W. Bush\, H. Ross Perot\, Jerry Brown and Bob Dole\, not to mention George Burns\, Johnny Carson\, Jimmy Stewart\, John McLaughlin\, Mickey Rooney and Regis Philbin.
X-ALT-DESC;FMTTYPE=text/html:Dana Carvey first appeared at the Gallo Center in 2009\, and then again in 2013\, in both cases delighting capacity audiences with his uproarious comedy. A repertory member of "Saturday Night Live" for seven seasons\, Carvey is best known for his characters the Church Lady\; Hans\, of the Hans and Franz body building duo\; and Garth\, Wayne Campbell's 'Excellent Co-Host' on the immensely popular sketch 'Wayne's World.' He also is renowned for his impersonations of Ex-President George H. W. Bush\, H. Ross Perot\, Jerry Brown and Bob Dole\, not to mention George Burns\, Johnny Carson\, Jimmy Stewart\, John McLaughlin\, Mickey Rooney and Regis Philbin.
LOCATION:Gallo Center 1000 I Street Modesto\, CA 95354
UID:e.2695.1538
SEQUENCE:3
DTSTAMP:20260419T154249Z
URL:https://business.modchamber.org/events/details/dana-carvey-03-03-2016-1538
END:VEVENT

END:VCALENDAR
