BEGIN:VCALENDAR
VERSION:2.0
PRODID:-//ChamberMaster//Event Calendar 2.0//EN
METHOD:PUBLISH
X-PUBLISHED-TTL:P3D
REFRESH-INTERVAL:P3D
CALSCALE:GREGORIAN
BEGIN:VEVENT
DTSTART:20160320T023000Z
DTEND:20160319T070000Z
X-MICROSOFT-CDO-ALLDAYEVENT:FALSE
SUMMARY:CWB - RAT PACK IN REVUE-Central West Ballet
DESCRIPTION:Rat Pack is Back! \n\nCentral West Ballet’s hit revue of the famed Summit with Sinatra\, Martin and Davis Jr. returns with all new dances and favorites. High octane entertainment for all. Don’t miss this show stopping dance performance full of unforgettable tunes!\nContact :	Gallo Center\nPhone :	209-338-2100\nEmail :	\nWeb Site :	galloarts.org
X-ALT-DESC;FMTTYPE=text/html:Rat Pack is Back! \n\nCentral West Ballet’s hit revue of the famed Summit with Sinatra\, Martin and Davis Jr. returns with all new dances and favorites. High octane entertainment for all. Don’t miss this show stopping dance performance full of unforgettable tunes!\nContact :	Gallo Center\nPhone :	209-338-2100\nEmail :	\nWeb Site :	galloarts.org\n
LOCATION:Gallo Center 1000 I Street Modesto\, CA 95354
UID:e.2695.1468
SEQUENCE:3
DTSTAMP:20260419T154258Z
URL:https://business.modchamber.org/events/details/cwb-rat-pack-in-revue-central-west-ballet-03-19-2016-1468
END:VEVENT

END:VCALENDAR
