BEGIN:VCALENDAR
VERSION:2.0
PRODID:-//ChamberMaster//Event Calendar 2.0//EN
METHOD:PUBLISH
X-PUBLISHED-TTL:P3D
REFRESH-INTERVAL:P3D
CALSCALE:GREGORIAN
BEGIN:VEVENT
DTSTART:20160507T180000Z
DTEND:20160508T000000Z
X-MICROSOFT-CDO-ALLDAYEVENT:FALSE
SUMMARY:Cultural Extravaganza Fiesta
DESCRIPTION:Families can enjoy a variety of fun activities\, art exhibits\, children's face painting\, bounce houses\, guest speaker presentations\, "Cradle of Sound Band"\, music entertainment\, refreshments\, "Mother's Day luncheon program" & community resource booth information.\nContact : 	\nPhone : 	209-341-2951\nEmail : 	\nWeb Site :
X-ALT-DESC;FMTTYPE=text/html:Families can enjoy a variety of fun activities\, art exhibits\, children's face painting\, bounce houses\, guest speaker presentations\, "Cradle of Sound Band"\, music entertainment\, refreshments\, "Mother's Day luncheon program" & community resource booth information.\nContact : 	\nPhone : 	209-341-2951\nEmail : 	\nWeb Site :
LOCATION:Mellis Park 601 S. Martin Luther King Dr Modesto\, CA 95351
UID:e.2695.1694
SEQUENCE:3
DTSTAMP:20260419T125007Z
URL:https://business.modchamber.org/events/details/cultural-extravaganza-fiesta-05-07-2016-1694
END:VEVENT

END:VCALENDAR
