BEGIN:VCALENDAR
VERSION:2.0
PRODID:-//ChamberMaster//Event Calendar 2.0//EN
METHOD:PUBLISH
X-PUBLISHED-TTL:P3D
REFRESH-INTERVAL:P3D
CALSCALE:GREGORIAN
BEGIN:VEVENT
DTSTART:20150418T010000Z
DTEND:20150418T040000Z
X-MICROSOFT-CDO-ALLDAYEVENT:FALSE
SUMMARY:Crime Stoppers Cuisine 2015
DESCRIPTION:Crime Stopping Cuisine 2015 Wine & Food Taster. An evening of fine wines\, beverages and food from restaurants and vendors from around the area & silent auction.\n\nTickets $40.00\nContact : 	Crime Stoppers\nPhone : 	209-968-2800.\nEmail : 	\nWeb Site : 	www.stancrimetips.com
X-ALT-DESC;FMTTYPE=text/html:Crime Stopping Cuisine 2015 Wine & Food Taster. An evening of fine wines\, beverages and food from restaurants and vendors from around the area & silent auction.\n\nTickets $40.00\nContact : 	Crime Stoppers\nPhone : 	209-968-2800.\nEmail : 	\nWeb Site : 	www.stancrimetips.com
LOCATION:Seasons Event Center 945 McHenry Ave Modesto\, CA 95351
UID:e.2695.872
SEQUENCE:3
DTSTAMP:20260420T063004Z
URL:https://business.modchamber.org/events/details/crime-stoppers-cuisine-2015-04-17-2015-872
END:VEVENT

END:VCALENDAR
