BEGIN:VCALENDAR
VERSION:2.0
PRODID:-//ChamberMaster//Event Calendar 2.0//EN
METHOD:PUBLISH
X-PUBLISHED-TTL:P3D
REFRESH-INTERVAL:P3D
CALSCALE:GREGORIAN
BEGIN:VEVENT
DTSTART:20141119T010000Z
DTEND:20141119T040000Z
X-MICROSOFT-CDO-ALLDAYEVENT:FALSE
SUMMARY:CPR renewal class in Manteca
DESCRIPTION:The CPR class is great if you want to learn what to do in an emergency situation. If you are a parent\, teacher\, fitness instructor\, and general workplace this is a great class for you!\n\nFor more information and to sign up for the class\, please go to our website.
X-ALT-DESC;FMTTYPE=text/html:The CPR class is great if you want to learn what to do in an emergency situation. If you are a parent\, teacher\, fitness instructor\, and general workplace this is a great class for you!\n\nFor more information and to sign up for the class\, please go to our website.
LOCATION:Manteca CPR Classes 620 East Yosemite ave. Manteca\, CA 95336
UID:e.2695.600
SEQUENCE:3
DTSTAMP:20260422T164648Z
URL:https://business.modchamber.org/events/details/cpr-renewal-class-in-manteca-11-18-2014-600
END:VEVENT

END:VCALENDAR
