BEGIN:VCALENDAR
VERSION:2.0
PRODID:-//ChamberMaster//Event Calendar 2.0//EN
METHOD:PUBLISH
X-PUBLISHED-TTL:P3D
REFRESH-INTERVAL:P3D
CALSCALE:GREGORIAN
BEGIN:VEVENT
DTSTART:20150111T210000Z
DTEND:20150112T000000Z
X-MICROSOFT-CDO-ALLDAYEVENT:FALSE
SUMMARY:CPR Re-certification class in Manteca
DESCRIPTION:The American Heart Association CPR AED Course is 3 hours long. You can take this class if you are renewing or taking it for the first time. \n\nThe book is included and you will get your certificationat the end of the class.
X-ALT-DESC;FMTTYPE=text/html:The American Heart Association CPR AED Course is 3 hours long. You can take this class if you are renewing or taking it for the first time. \n\nThe book is included and you will get your certificationat the end of the class.
LOCATION:Manteca CPR Classes 620 East Yosemite ave. Manteca\, CA 95336
UID:e.2695.743
SEQUENCE:3
DTSTAMP:20260422T121557Z
URL:https://business.modchamber.org/events/details/cpr-re-certification-class-in-manteca-01-11-2015-743
END:VEVENT

END:VCALENDAR
