BEGIN:VCALENDAR
VERSION:2.0
PRODID:-//ChamberMaster//Event Calendar 2.0//EN
METHOD:PUBLISH
X-PUBLISHED-TTL:P3D
REFRESH-INTERVAL:P3D
CALSCALE:GREGORIAN
BEGIN:VEVENT
DTSTART:20140525T200000Z
DTEND:20140526T010000Z
X-MICROSOFT-CDO-ALLDAYEVENT:FALSE
SUMMARY:CPR First Aid Training
DESCRIPTION:Get CPR First Aid certification card with us! Our classes are fun and stress free!
X-ALT-DESC;FMTTYPE=text/html:Get CPR First Aid certification card with us! Our classes are fun and stress free!
LOCATION:Manteca CPR Classes 620 East Yosemite Avenue Manteca\, CA 95336
UID:e.2695.473
SEQUENCE:3
DTSTAMP:20260423T013148Z
URL:https://business.modchamber.org/events/details/cpr-first-aid-training-05-25-2014-473
END:VEVENT

END:VCALENDAR
