BEGIN:VCALENDAR
VERSION:2.0
PRODID:-//ChamberMaster//Event Calendar 2.0//EN
METHOD:PUBLISH
X-PUBLISHED-TTL:P3D
REFRESH-INTERVAL:P3D
CALSCALE:GREGORIAN
BEGIN:VEVENT
DTSTART:20140724T200000Z
DTEND:20140724T230000Z
X-MICROSOFT-CDO-ALLDAYEVENT:FALSE
SUMMARY:CPR AED Class in Manteca
DESCRIPTION:The CPR Training is a great class to learn how to perform CPR on an adult\, child and infant. You will also learn how to us the AED and choke-saving.\n\nOur classes have a lot of interaction and you will get to practice with the manikins. We recommend wearing comfortable clothing.\n\nPlease check ourwebsite for the complete list of dates and times!
X-ALT-DESC;FMTTYPE=text/html:The CPR Training is a great class to learn how to perform CPR on an adult\, child and infant. You will also learn how to us the AED and choke-saving.\n\nOur classes have a lot of interaction and you will get to practice with the manikins. We recommend wearing comfortable clothing.\n\nPlease check ourwebsite for the complete list of dates and times!
LOCATION:Manteca CPR Classes 620 East Yosemite ave. Manteca\, CA 95336
UID:e.2695.522
SEQUENCE:3
DTSTAMP:20260423T000513Z
URL:https://business.modchamber.org/events/details/cpr-aed-class-in-manteca-07-24-2014-522
END:VEVENT

END:VCALENDAR
